Workbook
Name ampm: Formulas!$C$31:$C$72
Name daysInMonth: Formulas!#REF!
Name Hours: Formulas!$B$31:$B$72
Name month: Formulas!$H$5
Name monthName: Formulas!$H$7
Name monthNames: Formulas!$D$4:$D$15
Name nextEndDay: Formulas!$H$16
Name nextMonth: Formulas!$H$12
Name NextMonthName: Formulas!$H$13
Name prevEndDay: Formulas!#REF!
Name prevMonth: Formulas!$H$10
Name prevMonthName: Formulas!$H$11
Name Start_Times: Formulas!$A$31:$A$72
Name startDate: Formulas!$H$8
Name startDayOfWeek: Formulas!$H$9
Name thisMonth: Formulas!$B$5
Name thisMonthName: Formulas!$B$6
Name thisYear: Formulas!$B$7
Name time: Formulas!$H$3
Name valuevx: 42.314159
Name week: Formulas!$H$4
Name WeekDay: Formulas!$B$20:$H$20
Name WeekNo: Formulas!$A$21:$A$27
Name year: Formulas!$H$6

Sheet agenda
A1: Modelo de Agendamento - www.caroli.org/diretoaoponto
D3: ="Ano: "&year -> Ano: 2014 | G3: Semana: | H3: =week -> 4 | K3: [42]
D5: Mês: | E5: =monthName -> Outubro | G5: Hora de Início:
J6: Week
A7: 2-Horário de trabalho da Semana
A8: =TEXT(INDEX(Formulas!B$21:B$26,week),"Mmmm d, yyyy")&" - " -> outubro 19, yyyy -
A9: =TEXT(INDEX(Formulas!H$21:H$27,week+1),"Mmmm d, yyyy") -> novembro 1, yyyy
A12: [42]
C13: =INDEX(monthNames,MONTH(INDEX(Formulas!B$21:B$26,week))) -> Outubro | D13: =IF(DAY(INDEX(Formulas!C$21:C$26,week))=1,INDEX(monthNames,MONTH(INDEX(Formulas!C$21:C$26,week))),"") | E13: =IF(DAY(INDEX(Formulas!D$21:D$26,week))=1,INDEX(monthNames,MONTH(INDEX(Formulas!D$21:D$26,week))),"") | F13: =IF(DAY(INDEX(Formulas!E$21:E$26,week))=1,INDEX(monthNames,MONTH(INDEX(Formulas!E$21:E$26,week))),"") | G13: =IF(DAY(INDEX(Formulas!F$21:F$26,week))=1,INDEX(monthNames,MONTH(INDEX(Formulas!F$21:F$26,week))),"") | H13: =IF(DAY(INDEX(Formulas!G$21:G$26,week))=1,INDEX(monthNames,MONTH(INDEX(Formulas!G$21:G$26,week))),"") | I13: =IF(DAY(INDEX(Formulas!H$21:H$26,week))=1,INDEX(monthNames,MONTH(INDEX(Formulas!H$21:H$26,week))),"")
A14: Horário | C14: {=Formulas!B$19&" - "&DAY(INDEX(Formulas!B$21:B$26,week))} -> Dom - 19 | D14: {=Formulas!C$19&" - "&DAY(INDEX(Formulas!C$21:C$26,week))} -> Seg - 20 | E14: {=Formulas!D$19&" - "&DAY(INDEX(Formulas!D$21:D$26,week))} -> Ter - 21 | F14: {=Formulas!E$19&" - "&DAY(INDEX(Formulas!E$21:E$26,week))} -> Qua - 22 | G14: {=Formulas!F$19&" - "&DAY(INDEX(Formulas!F$21:F$26,week))} -> Qui - 23 | H14: {=Formulas!G$19&" - "&DAY(INDEX(Formulas!G$21:G$26,week))} -> Sex - 24 | I14: {=Formulas!H$19&" - "&DAY(INDEX(Formulas!H$21:H$26,week))} -> Sab - 25
A15: =INDEX(Hours,time+(ROW(A15)-ROW($A$15))/2) -> 8 | B15: :00 | E15: PERSONAS | F15: FEATURES | G15: JORNADAS | H15: CONSOLIDAR
B16: :30 | D16: KICK OFF
A17: =INDEX(Hours,time+(ROW(A17)-ROW($A$15))/2) -> 9 | B17: :00
B18: :30
A19: =INDEX(Hours,time+(ROW(A19)-ROW($A$15))/2) -> 10 | B19: :00 | D19: VISÃO DO PRODUTO
B20: :30
A21: =INDEX(Hours,time+(ROW(A21)-ROW($A$15))/2) -> 11 | B21: :00
B22: :30
A23: =INDEX(Hours,time+(ROW(A23)-ROW($A$15))/2) -> 12 | B23: :00 | D23: ALMOÇO
B24: :30
A25: =INDEX(Hours,time+(ROW(A25)-ROW($A$15))/2) -> 1 | B25: :00 | D25: OBJETIVOS | E25: FEATURES | F25: NIVELANDO FEATURES | G25: PLANEJAR ENTREGAS | H25: SHOWCASE
B26: :30
A27: =INDEX(Hours,time+(ROW(A27)-ROW($A$15))/2) -> 2 | B27: :00
B28: :30
A29: =INDEX(Hours,time+(ROW(A29)-ROW($A$15))/2) -> 3 | B29: :00
B30: :30
A31: =INDEX(Hours,time+(ROW(A31)-ROW($A$15))/2) -> 4 | B31: :00 | D31: CONSOLIDAR | E31: CONSOLIDAR | F31: CONSOLIDAR | G31: CONSOLIDAR
B32: :30
A33: =INDEX(Hours,time+(ROW(A33)-ROW($A$15))/2) -> 5 | B33: :00
B34: :30
A35: =INDEX(Hours,time+(ROW(A35)-ROW($A$15))/2) -> 6 | B35: :00
B36: :30
A37: [42] | C37: =IF(MONTH(INDEX(Formulas!B$21:B$26,week+1))<>month,IF(DAY(INDEX(Formulas!B$21:B$26,week+1))=1,NextMonthName,""),"") | D37: =IF(MONTH(INDEX(Formulas!C$21:C$26,week+1))<>month,IF(DAY(INDEX(Formulas!C$21:C$26,week+1))=1,NextMonthName,""),"") | E37: =IF(MONTH(INDEX(Formulas!D$21:D$26,week+1))<>month,IF(DAY(INDEX(Formulas!D$21:D$26,week+1))=1,NextMonthName,""),"") | F37: =IF(MONTH(INDEX(Formulas!E$21:E$26,week+1))<>month,IF(DAY(INDEX(Formulas!E$21:E$26,week+1))=1,NextMonthName,""),"") | G37: =IF(MONTH(INDEX(Formulas!F$21:F$26,week+1))<>month,IF(DAY(INDEX(Formulas!F$21:F$26,week+1))=1,NextMonthName,""),"") | H37: =IF(MONTH(INDEX(Formulas!G$21:G$26,week+1))<>month,IF(DAY(INDEX(Formulas!G$21:G$26,week+1))=1,NextMonthName,""),"") | I37: =IF(MONTH(INDEX(Formulas!H$21:H$26,week+1))<>month,IF(DAY(INDEX(Formulas!H$21:H$26,week+1))=1,NextMonthName,""),"") -> Novembro
A38: Horário | C38: {=Formulas!B$19&" - "&DAY(INDEX(Formulas!B$21:B$27,week+1))} -> Dom - 26 | D38: {=Formulas!C$19&" - "&DAY(INDEX(Formulas!C$21:C$27,week+1))} -> Seg - 27 | E38: {=Formulas!D$19&" - "&DAY(INDEX(Formulas!D$21:D$27,week+1))} -> Ter - 28 | F38: {=Formulas!E$19&" - "&DAY(INDEX(Formulas!E$21:E$27,week+1))} -> Qua - 29 | G38: {=Formulas!F$19&" - "&DAY(INDEX(Formulas!F$21:F$27,week+1))} -> Qui - 30 | H38: {=Formulas!G$19&" - "&DAY(INDEX(Formulas!G$21:G$27,week+1))} -> Sex - 31 | I38: {=Formulas!H$19&" - "&DAY(INDEX(Formulas!H$21:H$27,week+1))} -> Sab - 1
A39: =INDEX(Hours,time+(ROW(A39)-ROW($A$39))/2) -> 8 | B39: :00 | D39: Alinhamento com outras áreas | E39: PLANEJAMENTO
B40: :30
A41: =INDEX(Hours,time+(ROW(A41)-ROW($A$39))/2) -> 9 | B41: :00
B42: :30
A43: =INDEX(Hours,time+(ROW(A43)-ROW($A$39))/2) -> 10 | B43: :00
B44: :30
...

Sheet checklist
A1: Checked | B1: Itens | C1: Descrição | D1: Quantidade
A2: Não | B2: convites enviado para os stakeholders
A3: Não | B3: convites enviado para os membroe da equipe
A4: Não | B4: Canetas para todos | C4: sharpie ou canetas boas para post-it | D4: uma por pessoa
A5: Não | B5: Post-its coloridos | C5: pequenos e médios; pelo menos de trÊs cores | D5: um bloco por cada duas pessoas
A6: Não | B6: Cartões e papel A4 | C6: index card branco, verde, amarelo e rosa | D6: 100 index cards, 30 folhas A4
A7: Não | B7: Flipchart | C7: ou papel A2 | D7: 40 folhas
A8: Não | B8: Coffee break
A9: Não | B9: Disponibilização das agendas
A10: Não | B10: Facilitador experiente
A11: Não | B11: Reserva de sala

Sheet Formulas
A1: Formulas Data e Horas | R1: Papel | S1: Nível de Participação | T1: Tipo de sessões | U1: Cheked
J2: =prevMonthName&" "&YEAR(H10) -> Setembro 2014
B3: Today's Date | D3: Month Names | G3: hora | H3: 9 | J3: S | K3: M | L3: T | M3: W | N3: Th | O3: F | P3: Sa | R3: Analista de Governança | S3: convidado | T3: Descoberta | U3: Não
B4: =TODAY() -> 42298 | D4: Janeiro | G4: - | H4: 4 | J4: {=IF(MONTH(prevMonth)<>MONTH(prevMonth-WEEKDAY(prevMonth)+(WeekNo-1)*7+WeekDay),"",DAY(prevMonth-WEEKDAY(prevMonth)+(WeekNo-1)*7+WeekDay))} | K4: 1 | L4: 2 | M4: 3 | N4: 4 | O4: 5 | P4: 6 | R4: Desenvolvedor | S4: facilitador | T4: Kick-off | U4: Sim
B5: =MONTH(TODAY()) -> 10 | D5: Fevereiro | G5: mês | H5: 10 | J5: 7 | K5: 8 | L5: 9 | M5: 10 | N5: 11 | O5: 12 | P5: 13 | R5: Analista de Negócios | S5: membro da equipe | T5: Retrospectiva
B6: =INDEX(monthNames,B5) -> Outubro | D6: Março | G6: ano | H6: 2014 | J6: 14 | K6: 15 | L6: 16 | M6: 17 | N6: 18 | O6: 19 | P6: 20 | R6: Analista de Qualidade | S6: stakeholders | T6: Stand-up
B7: =YEAR(TODAY()) -> 2015 | D7: Abril | G7: monthName | H7: =INDEX(monthNames,month) -> Outubro | J7: 21 | K7: 22 | L7: 23 | M7: 24 | N7: 25 | O7: 26 | P7: 27 | R7: Líder técnico
D8: Maio | G8: startDate | H8: =DATE(year,month,1) -> 41913 | J8: 28 | K8: 29 | L8: 30 | R8: Product Owner
D9: Junho | G9: startDayOfWeek | H9: =WEEKDAY(startDate) -> 4
D10: Julho | G10: prevMonth | H10: =DATE(YEAR(startDate-1),MONTH(startDate-1),1) -> 41883
D11: Agosto | G11: prevMonthName | H11: =INDEX(monthNames,MONTH(H10)) -> Setembro | J11: =monthName&" "&year -> Outubro 2014
D12: Setembro | G12: nextMonth | H12: =DATE(YEAR(startDate+32),MONTH(startDate+32),1) -> 41944 | J12: S | K12: M | L12: T | M12: W | N12: Th | O12: F | P12: Sa
D13: Outubro | G13: nextMonthName | H13: =INDEX(monthNames,MONTH(H12)) -> Novembro | J13: {=IF(MONTH(startDate)<>MONTH(startDate-startDayOfWeek+(WeekNo-1)*7+WeekDay),"",DAY(startDate-startDayOfWeek+(WeekNo-1)*7+WeekDay))} | M13: 1 | N13: 2 | O13: 3 | P13: 4
D14: Novembro | J14: 5 | K14: 6 | L14: 7 | M14: 8 | N14: 9 | O14: 10 | P14: 11
D15: Dezembro | J15: 12 | K15: 13 | L15: 14 | M15: 15 | N15: 16 | O15: 17 | P15: 18
J16: 19 | K16: 20 | L16: 21 | M16: 22 | N16: 23 | O16: 24 | P16: 25
J17: 26 | K17: 27 | L17: 28 | M17: 29 | N17: 30 | O17: 31
A19: WeekNo | B19: Dom | C19: Seg | D19: Ter | E19: Qua | F19: Qui | G19: Sex | H19: Sab
B20: 1 | C20: 2 | D20: 3 | E20: 4 | F20: 5 | G20: 6 | H20: 7 | J20: =NextMonthName&" "&YEAR(H12) -> Novembro 2014
A21: 1 | B21: {=startDate-startDayOfWeek+(WeekNo-1)*7+WeekDay} -> 41910 | C21: 41911 | D21: 41912 | E21: 41913 | F21: 41914 | G21: 41915 | H21: 41916 | J21: S | K21: M | L21: T | M21: W | N21: Th | O21: F | P21: Sa
A22: 2 | B22: 41917 | C22: 41918 | D22: 41919 | E22: 41920 | F22: 41921 | G22: 41922 | H22: 41923 | J22: {=IF(MONTH(nextMonth)<>MONTH(nextMonth-WEEKDAY(nextMonth)+(WeekNo-1)*7+WeekDay),"",DAY(nextMonth-WEEKDAY(nextMonth)+(WeekNo-1)*7+WeekDay))} | P22: 1
A23: 3 | B23: 41924 | C23: 41925 | D23: 41926 | E23: 41927 | F23: 41928 | G23: 41929 | H23: 41930 | J23: 2 | K23: 3 | L23: 4 | M23: 5 | N23: 6 | O23: 7 | P23: 8
A24: 4 | B24: 41931 | C24: 41932 | D24: 41933 | E24: 41934 | F24: 41935 | G24: 41936 | H24: 41937 | J24: 9 | K24: 10 | L24: 11 | M24: 12 | N24: 13 | O24: 14 | P24: 15
A25: 5 | B25: 41938 | C25: 41939 | D25: 41940 | E25: 41941 | F25: 41942 | G25: 41943 | H25: 41944 | J25: 16 | K25: 17 | L25: 18 | M25: 19 | N25: 20 | O25: 21 | P25: 22
A26: 6 | B26: 41945 | C26: 41946 | D26: 41947 | E26: 41948 | F26: 41949 | G26: 41950 | H26: 41951 | J26: 23 | K26: 24 | L26: 25 | M26: 26 | N26: 27 | O26: 28 | P26: 29
A27: 7 | B27: 41952 | C27: 41953 | D27: 41954 | E27: 41955 | F27: 41956 | G27: 41957 | H27: 41958 | J27: 30
A30: Start_Times | B30: Hours | C30: ampm
A31: =12 -> 12 | B31: 12 | C31: =IF(HOUR(A31)>=12,"PM","am") -> am
A32: =A31+1/24 -> 12.041667 | B32: 1 | C32: =IF(HOUR(A32)>=12,"PM","am") -> am
A33: =A32+1/24 -> 12.083333 | B33: 2 | C33: =IF(HOUR(A33)>=12,"PM","am") -> am
A34: =A33+1/24 -> 12.125 | B34: 3 | C34: =IF(HOUR(A34)>=12,"PM","am") -> am
A35: =A34+1/24 -> 12.166667 | B35: 4 | C35: =IF(HOUR(A35)>=12,"PM","am") -> am
A36: =A35+1/24 -> 12.208333 | B36: 5 | C36: =IF(HOUR(A36)>=12,"PM","am") -> am
A37: =A36+1/24 -> 12.25 | B37: 6 | C37: =IF(HOUR(A37)>=12,"PM","am") -> am
A38: =A37+1/24 -> 12.291667 | B38: 7 | C38: =IF(HOUR(A38)>=12,"PM","am") -> am
A39: =A38+1/24 -> 12.333333 | B39: 8 | C39: =IF(HOUR(A39)>=12,"PM","am") -> am
A40: =A39+1/24 -> 12.375 | B40: 9 | C40: =IF(HOUR(A40)>=12,"PM","am") -> am
A41: =A40+1/24 -> 12.416667 | B41: 10 | C41: =IF(HOUR(A41)>=12,"PM","am") -> am
A42: =A41+1/24 -> 12.458333 | B42: 11 | C42: =IF(HOUR(A42)>=12,"PM","am") -> am
A43: =A42+1/24 -> 12.5 | B43: 12 | C43: =IF(HOUR(A43)>=12,"PM","am") -> PM
...

Sheet participantes
A1: nome | B1: cargo | C1: nível de participação
A2: Paulo Caroli | B2: facilitador da inception enxuta | C2: facilitador
A3: Fulano | B3: desenvolvedor | C3: membro da equipe
A4: Beltrano | B4: Diretor de TI | C4: stakeholders
A5: ...

Sheet sessões
A1: Sessão | B1: Facilitador | C1: descrição | D1: Participantes
A2: introduções | B2: facilitador | C2: Vamos conhecer uns aos outros (fatos pessoais, nível de habilidade, papéis passados, actuais funções, equipes, etc) antes de entrar mais fundo nas atividades da Concepção | D2: todos
A3: kick off | B3: stakeholders | C3: A sessão de kickoff serve para orientar os participantes com as razões do negócio, e dar início ao entendimento comum das suas principais necessidades e objetivos. | D3: todos
A4: Visão do Produto | B4: membro da equipe | C4: O entendimento da necessidade do produto guiará as atividades seguintes. Os conceitos apresentados inicialmente são apenas uma visão, e a ideia será refinada durante a inception. | D4: membros da equipe
A5: Objetivos | B5: membro da equipe | C5: Cada membro da equipe deve compartilhar o que entende sobre os objetivos do produto e isto deve ser discutido para que o time alcance um consenso sobre o que é realmente importante. | D5: membros da equipe
A6: personas | B6: membro da equipe | C6: Para efetivamente identificar as funcionalidades de um sistema, consideramos importante ter em mente os usuários e seus objetivos. A maneira que normalmente utilizamos para representar estes usuários é através de personas. | D6: membros da equipe
A7: Features | B7: membro da equipe | C7: Feature é um agrupamento de funcionalidades afins. Tal agrupamento nos ajuda com a compreensão sobre o requisito como um todo, bem como das suas partes menores e complementares. O entendimento de feature vai variar de time para time. O importante é que tal agrupamento faça sentido para aquela equipe. | D7: membros da equipe
A8: Nivelando Features | B8: membro da equipe | C8: Vamos alinhar como a equipe se sente em relação ao entedimento técnico e o entendimento de negócio para cada feature, bem como o esforço e o valor de negócio associado a mesma. | D8: membros da equipe
A9: Jornadas | B9: membro da equipe | C9: A jornada do usuário descreve o percurso de um usuário por uma seqüência de passos dados para alcançar um objetivo. Alguns desses passos representam diferentes pontos de contato com o produto, caracterizando a interação do usuário com ele. | D9: membros da equipe
A10: Canvas MVP | B10: membro da equipe | C10: A partir de um conjunto de features precisamos elaborar um plano de entrega. Para isto, adicionamos dados das jornadas, sequenciamento lógico, prioridade e tempo. | D10: membros da equipe
A11: Showcase | B11: membro da equipe | C11: so, how big is this effort? (each story and feature). Now is another chance to re-think if the current feature and story level still makes sense. Should we simplify it somehow? Perhaps break down the features into MVP1, and MVP2? | D11: todos
